6.00000000000000
0.00000000000000
0.00000000000000
-6.00000000000000
1329180.00000000000000
686592.00000000000000
