6.00000000000000
0.00000000000000
0.00000000000000
-6.00000000000000
1252938.00000000000000
642408.00000000000000
