6.00000000000000
0.00000000000000
0.00000000000000
-6.00000000000000
1343142.00000000000000
617946.00000000000000
