6.00000000000000
0.00000000000000
0.00000000000000
-6.00000000000000
1328028.00000000000000
618192.00000000000000
