6.00000000000000
0.00000000000000
0.00000000000000
-6.00000000000000
1206594.00000000000000
597816.00000000000000
