6.00000000000000
0.00000000000000
0.00000000000000
-6.00000000000000
1251990.00000000000000
596814.00000000000000
