6.00000000000000
0.00000000000000
0.00000000000000
-6.00000000000000
1175196.00000000000000
552954.00000000000000
