6.00000000000000
0.00000000000000
0.00000000000000
-6.00000000000000
1220190.00000000000000
529086.00000000000000
