6.00000000000000
0.00000000000000
0.00000000000000
-6.00000000000000
1280934.00000000000000
527820.00000000000000
