6.00000000000000
0.00000000000000
0.00000000000000
-6.00000000000000
1266204.00000000000000
550914.00000000000000
