6.00000000000000
0.00000000000000
0.00000000000000
-6.00000000000000
1326498.00000000000000
526998.00000000000000
