6.00000000000000
0.00000000000000
0.00000000000000
-6.00000000000000
1342050.00000000000000
549552.00000000000000
