6.00000000000000
0.00000000000000
0.00000000000000
-6.00000000000000
1234884.00000000000000
505956.00000000000000
