6.00000000000000
0.00000000000000
0.00000000000000
-6.00000000000000
1280058.00000000000000
482226.00000000000000
