6.00000000000000
0.00000000000000
0.00000000000000
-6.00000000000000
1264836.00000000000000
482526.00000000000000
