6.00000000000000
0.00000000000000
0.00000000000000
-6.00000000000000
1359984.00000000000000
731718.00000000000000
