6.00000000000000
0.00000000000000
0.00000000000000
-6.00000000000000
1584990.00000000000000
615654.00000000000000
