6.00000000000000
0.00000000000000
0.00000000000000
-6.00000000000000
1585056.00000000000000
638460.00000000000000
