6.00000000000000
0.00000000000000
0.00000000000000
-6.00000000000000
1539516.00000000000000
593046.00000000000000
