6.00000000000000
0.00000000000000
0.00000000000000
-6.00000000000000
1372062.00000000000000
526290.00000000000000
