6.00000000000000
0.00000000000000
0.00000000000000
-6.00000000000000
1357218.00000000000000
549312.00000000000000
