10.0000000000
0.0000000000
0.0000000000
-10.0000000000
947649.0700000001
690104.2500000000
