3.2500000000
0.0000000000
0.0000000000
-3.2500000000
1012152.3750000000
590448.6250000000
