3.2500000000
0.0000000000
0.0000000000
-3.2500000000
1139107.1250000000
586311.3750000000
