3.2500000000
0.0000000000
0.0000000000
-3.2500000000
1107296.1250000000
587240.8750000000
