3.2500000000
0.0000000000
0.0000000000
-3.2500000000
975430.6250000000
591417.1250000000
