3.2500000000
0.0000000000
0.0000000000
-3.2500000000
1102014.8750000000
587309.1250000000
