3.2500000000
0.0000000000
0.0000000000
-3.2500000000
1164093.1250000000
553713.8750000000
