3.2500000000
0.0000000000
0.0000000000
-3.2500000000
1035575.1250000000
652884.3750000000
