3.2500000000
0.0000000000
0.0000000000
-3.2500000000
1062654.1250000000
683821.1250000000
