3.2500000000
0.0000000000
0.0000000000
-3.2500000000
967402.3750000000
655668.8750000000
