3.2500000000
0.0000000000
0.0000000000
-3.2500000000
1093187.8750000000
651025.3750000000
