3.2500000000
0.0000000000
0.0000000000
-3.2500000000
1092352.6250000000
619350.8750000000
