3.2500000000
0.0000000000
0.0000000000
-3.2500000000
1028054.6250000000
589535.3750000000
