3.2500000000
0.0000000000
0.0000000000
-3.2500000000
1153559.8750000000
554048.6250000000
