3.2500000000
0.0000000000
0.0000000000
-3.2500000000
1027076.3750000000
557812.1250000000
