3.2500000000
0.0000000000
0.0000000000
-3.2500000000
1090067.8750000000
555784.1250000000
