3.2500000000
0.0000000000
0.0000000000
-3.2500000000
1024986.6250000000
653215.8750000000
