3.2500000000
0.0000000000
0.0000000000
-3.2500000000
1056368.6250000000
652237.6250000000
