3.2500000000
0.0000000000
0.0000000000
-3.2500000000
1087877.3750000000
651171.6250000000
