3.2500000000
0.0000000000
0.0000000000
-3.2500000000
1022776.6250000000
589707.6250000000
