3.2500000000
0.0000000000
0.0000000000
-3.2500000000
1054444.6250000000
588735.8750000000
