3.2500000000
0.0000000000
0.0000000000
-3.2500000000
1148288.3750000000
554282.6250000000
