3.2500000000
0.0000000000
0.0000000000
-3.2500000000
1084809.3750000000
555975.8750000000
