3.2500000000
0.0000000000
0.0000000000
-3.2500000000
987439.3750000000
622123.1250000000
