3.2500000000
0.0000000000
0.0000000000
-3.2500000000
1080837.8750000000
587900.6250000000
