3.2500000000
0.0000000000
0.0000000000
-3.2500000000
1143013.6250000000
554396.3750000000
