3.2500000000
0.0000000000
0.0000000000
-3.2500000000
1079713.3750000000
556164.3750000000
