3.2500000000
0.0000000000
0.0000000000
-3.2500000000
1050365.8750000000
625987.3750000000
