3.2500000000
0.0000000000
0.0000000000
-3.2500000000
1055562.6250000000
625769.6250000000
